BEGIN:VCALENDAR
VERSION:2.0
PRODID:-//Semillistas - ECPv6.15.18//NONSGML v1.0//EN
CALSCALE:GREGORIAN
METHOD:PUBLISH
X-WR-CALNAME:Semillistas
X-ORIGINAL-URL:https://semillistas.es
X-WR-CALDESC:Eventos para Semillistas
REFRESH-INTERVAL;VALUE=DURATION:PT1H
X-Robots-Tag:noindex
X-PUBLISHED-TTL:PT1H
BEGIN:VTIMEZONE
TZID:UTC
BEGIN:STANDARD
TZOFFSETFROM:+0000
TZOFFSETTO:+0000
TZNAME:UTC
DTSTART:20220101T000000
END:STANDARD
END:VTIMEZONE
BEGIN:VEVENT
DTSTART;VALUE=DATE:20230925
DTEND;VALUE=DATE:20231007
DTSTAMP:20260422T203157
CREATED:20230710T102340Z
LAST-MODIFIED:20230925T122706Z
UID:2175-1695600000-1696636799@semillistas.es
SUMMARY:2 plazas para voluntariado CES para residentes en España
DESCRIPTION:Si tienes entre 18 y 30 años y eres residente en España puedes optar por esta oportunidad hasta el 16 de Agosto \nQuedan 2 plazas disponibles para personas residentes en España!! \nSi quieres ayudarnos a regenerar el bosque mediterráneo del 22 de octubre al 21 de diciembre en las Alpujarras\, Granada\, España.\nEn colaboración con el Cuerpo Europeo de Solidaridad (CES) y el programa Erasmus +\, buscamos 2 voluntari@s (18-30 años de edad) entusiastas y comprometidos con un viaje de aprendizaje. Serán parte de la investigación y el establecimiento de la regeneración a través de la siembra directa de semillas. Esta estancia estará sostenida por varios coordinadores y cada voluntario contará además con un mentor que le acompañará durante su estancia. Las actividades incluyen varios días a la semana subidas a la montaña sembrando y aprendiendo sobre ecología\, sumergirse en la convivencia comunitaria\, practicar el autocuidado físico\, vivir la vida rural y participar en charlas y talleres sobre temas relacionados con nuestros valores y objetivos.\nLos gastos de viaje\, comida y alojamiento están cubiertos por el CES\, así como una pequeña asignación mensual durante su estancia.\nLas solicitudes están abiertas hasta el 3 de octubre \nPara más info pinchar aqui  \nPara rellenar el formulario de solicitud pichar aquí https://forms.gle/RQkNFhHk3rUnAuLL7 \n 
URL:https://semillistas.es/evento/candidaturas-para-voluntariado-europeo-ces-abiertas/
ATTACH;FMTTYPE=image/png:https://semillistas.es/wp-content/uploads/2023/07/CES-Octubre-ultima-llamada-.png
END:VEVENT
BEGIN:VEVENT
DTSTART;TZID=UTC:20231007T090000
DTEND;TZID=UTC:20231007T140000
DTSTAMP:20260422T203157
CREATED:20230928T094716Z
LAST-MODIFIED:20230928T094831Z
UID:2554-1696669200-1696687200@semillistas.es
SUMMARY:Voluntariado acondicionar terreno para reforestación - Sierra Lujar
DESCRIPTION:El Sábado 7 de Octubre iremos a Sierra Lujar para acondicionar el terreno y prepararlo para la reforestación. \nPretendemos cavar espacios de retención de agua\, de manera que cuando la lluvia caiga\, la tierra permanezca húmeda por más tiempo y las semillas que sembremos puedan prosperar. \nPara ello necesitamos todas las manos posibles!! Es un trabajo físico\, pero que nos tomaremos con calma y buen humor\, disfrutando de estar al aire libre\, en la naturaleza\, compartiendo con otr@s y aprendiendo más sobre nuestro entorno. \nQuedamos a las 9.00. La ubicación del lugar de encuentro la enviaremos a l@s inscrit@s el día antes de la  jornada\, junto con el resto de info. \nAntes de comenzar las siembras se ofrecerán ejercicios de calentamiento y prácticas de cuidado corporal: estiramientos\, yoga.. Y después instrucciones detalladas de la actuación que se va a realizar y como hacerla\, con demostraciones prácticas. \nL@s voluntari@s estarán en todo momento acompañad@s por un/a monitor/a de la Asoc Semillistas. \nCrearemos un campo base para l@s niñ@s y quien quiera ir descansando. \nAl rededor de las 14.00 terminaremos la siembra y pararemos a comer\, quien quiera quedarse a compartir este rato. \nContamos con seguro de voluntariado y de responsabilidad civil. \nPor cada 3 jornadas de voluntariado de siembra se ofrecerá a cada voluntari@ una sesión de terapia de cuidado del cuerpo\, que corresponde a nuestro objetivo del cuidado de la salud. \nPlazas limitadas. \nINFO E INSCRIPCIONES: 644 02 74 22. \nOs esperamos \nSiembrate!!! \nActividad subvencionada por:  Ministerio de Derechos Sociales y Agenda 2030 y TreeNation. Colabora: Ayto de Orgiva\, Teatro Sol y Tierra.
URL:https://semillistas.es/evento/voluntariado-acondicionar-terreno-para-reforestacion-sierra-lujar/
LOCATION:Sierra Lujar
ATTACH;FMTTYPE=image/jpeg:https://semillistas.es/wp-content/uploads/2023/09/Volunt-Octubre-2023-scaled.jpg
END:VEVENT
BEGIN:VEVENT
DTSTART;TZID=UTC:20231028T090000
DTEND;TZID=UTC:20231028T140000
DTSTAMP:20260422T203157
CREATED:20230928T095234Z
LAST-MODIFIED:20230928T095357Z
UID:2559-1698483600-1698501600@semillistas.es
SUMMARY:Voluntariado acondicionar terreno para reforestación y siembra – Sierra Lujar
DESCRIPTION:El Sábado 28 de Octubre iremos a Sierra Lujar para acondicionar el terreno y prepararlo para la reforestación. \nPretendemos cavar espacios de retención de agua\, de manera que cuando la lluvia caiga\, la tierra permanezca húmeda por más tiempo y las semillas que sembremos puedan prosperar. \nPara ello necesitamos todas las manos posibles!! Es un trabajo físico\, pero que nos tomaremos con calma y buen humor\, disfrutando de estar al aire libre\, en la naturaleza\, compartiendo con otr@s y aprendiendo más sobre nuestro entorno. \nAdemás\, si ha llovido ya o esperamos lluvias pronto aprovecharemos para sembrar semillas de árboles y arbustos autóctonos. Utilizando tecnologías innovadoras en la regeneración de bosque mediterraneo. Realizaremos siembra directa de semillas (en lugar de planteles de arboles)\, que han sido pre-tratadas en nuestro laboratorio en Pitres\, con biotecnologías: priming\, pelleting\, micorrizas y microorganismos. Lo cual aumenta la adaptación de las plantas y las posibilidades de éxito de las acciones de reforestación. \nQuedamos a las 9.00. La ubicación del lugar de encuentro la enviaremos a l@s inscrit@s el día antes de la  jornada\, junto con el resto de info. \nAntes de comenzar las siembras se ofrecerán ejercicios de calentamiento y prácticas de cuidado corporal: estiramientos\, yoga.. Y después instrucciones detalladas de la actuación que se va a realizar y como hacerla\, con demostraciones prácticas. \nL@s voluntari@s estarán en todo momento acompañad@s por un/a monitor/a de la Asoc Semillistas. \nCrearemos un campo base para l@s niñ@s y quien quiera ir descansando. \nAl rededor de las 14.00 terminaremos la siembra y pararemos a comer\, quien quiera quedarse a compartir este rato. \nContamos con seguro de voluntariado y de responsabilidad civil. \nPor cada 3 jornadas de voluntariado de siembra se ofrecerá a cada voluntari@ una sesión de terapia de cuidado del cuerpo\, que corresponde a nuestro objetivo del cuidado de la salud. \nPlazas limitadas. \nINFO E INSCRIPCIONES: 644 02 74 22. \nOs esperamos \nSiembrate!!! \nActividad subvencionada por:  Ministerio de Derechos Sociales y Agenda 2030 y TreeNation. Colabora: Ayto de Orgiva\, Teatro Sol y Tierra.
URL:https://semillistas.es/evento/voluntariado-acondicionar-terreno-para-reforestacion-y-siembra-sierra-lujar/
LOCATION:Sierra Lujar
ATTACH;FMTTYPE=image/jpeg:https://semillistas.es/wp-content/uploads/2023/09/Volunt-Octubre-2023-scaled.jpg
END:VEVENT
END:VCALENDAR